BEGIN:VCALENDAR
VERSION:2.0
PRODID:-//Brain Injury Association of Arizona - ECPv6.15.20//NONSGML v1.0//EN
CALSCALE:GREGORIAN
METHOD:PUBLISH
X-ORIGINAL-URL:https://biaaz.org
X-WR-CALDESC:Events for Brain Injury Association of Arizona
REFRESH-INTERVAL;VALUE=DURATION:PT1H
X-Robots-Tag:noindex
X-PUBLISHED-TTL:PT1H
BEGIN:VTIMEZONE
TZID:America/Phoenix
BEGIN:STANDARD
TZOFFSETFROM:-0700
TZOFFSETTO:-0700
TZNAME:MST
DTSTART:20250101T000000
END:STANDARD
END:VTIMEZONE
BEGIN:VEVENT
DTSTART;TZID=America/Phoenix:20260415T163000
DTEND;TZID=America/Phoenix:20260415T183000
DTSTAMP:20260425T102437
CREATED:20260323T171828Z
LAST-MODIFIED:20260323T183518Z
UID:10000519-1776270600-1776277800@biaaz.org
SUMMARY:Let's Go to the Movies — You\, Me\, and Tuscany
DESCRIPTION:Join us for You\, Me\, & Tuscany\nMovie Date and Time: Wednesday\, April 15th \, 4:20 PM\n\nMeet at Regal Theater in Gilbert at 1012 S Gilbert Rd\, Gilbert\, AZ 85296. \n\n			\n			\n				\n				\n				\n				\n			\n				\n				\n			\n				\n				\n				\n				\n				\n				\n				\n				\n				\n				\n				\n				\n				\n				\n				\n				\n				\n				\n			\n			\n				\n				\n				\n				\n				\n				\n				\n				\n				\n				This event is for survivors of all types of brain injury. Survivors are welcome to bring a friend or family member. Tickets will be provided for those registered. Please meet in the lobby 15 minutes before the start of the movie. \nYou may purchase refreshments on your own. \nPlease notify us immediately if you would like a wheelchair spot instead of a seat. \nFunds for this event are provided by our annual Run\, Walk\, & Roll. \nPlease call the office at 888-500-9165 if you need help registering or have questions. \n			\n				\n				\n				\n				\n				ABOUT “YOU\, ME\, & TUSCANY” (PG-13): Anna impulsively jets off to Tuscany\, Italy\, to stay at a stranger’s villa without permission. Caught inside the house by the man’s mother\, the woman convinces the mother that she’s his fiancée. That little lie soon becomes a big problem when Anna develops a growing attraction to the stranger’s handsome cousin. \n			\n				\n				\n				\n				\n				\n				\n			\n			\n				\n				\n				\n				\n			\n				\n				\n			\n				\n				\n				\n				\n				\n				\n				\n				\n				\n				\n				\n				\n				\n				\n				\n				\n				\n				Registration Form\n			\n				\n				\n				\n				\n				REGISTRATION IS LIMITED! \n			\n				\n				\n				\n				\n				Registration for this event is now closed
URL:https://biaaz.org/event/lets-go-to-the-movies-you-me-and-tuscany/
LOCATION:Regal Theater in Gilbert\, 1012 S Gilbert Rd\, Gilbert\, AZ\, 85296
CATEGORIES:MOVIE
ATTACH;FMTTYPE=image/webp:https://biaaz.org/wp-content/uploads/2026/03/You-Me-Tscany-FEATURE.webp
ORGANIZER;CN="Brain Injury Association of Arizona":MAILTO:info@biaaz.org
GEO:33.3286078;-111.7958411
X-APPLE-STRUCTURED-LOCATION;VALUE=URI;X-ADDRESS=Regal Theater in Gilbert 1012 S Gilbert Rd Gilbert AZ 85296;X-APPLE-RADIUS=500;X-TITLE=1012 S Gilbert Rd:geo:-111.7958411,33.3286078
END:VEVENT
BEGIN:VEVENT
DTSTART;TZID=America/Phoenix:20260322T103000
DTEND;TZID=America/Phoenix:20260322T150000
DTSTAMP:20260425T102437
CREATED:20260226T185821Z
LAST-MODIFIED:20260226T190230Z
UID:10000517-1774175400-1774191600@biaaz.org
SUMMARY:Let's Go to the Movies — Hail Mary
DESCRIPTION:Join us for Hail Mary\nMovie Date and Time: Sunday\, March 22nd \, 10:40 AM\n\nMeet at Regal Theater in Gilbert at 1012 S Gilbert Rd\, Gilbert\, AZ 85296. \n\n			\n			\n				\n				\n				\n				\n			\n				\n				\n			\n				\n				\n				\n				\n				\n				\n				\n				\n				\n				\n				\n				\n				\n				\n				\n				\n				\n				\n			\n			\n				\n				\n				\n				\n				\n				\n				\n				\n				\n				This event is for survivors of all types of brain injury. Survivors are welcome to bring a friend or family member. Tickets will be provided for those registered. Please meet in the lobby 15 minutes before the start of the movie. \nYou may purchase refreshments on your own. \nPlease notify us immediately if you would like a wheelchair spot instead of a seat. \nFunds for this event are provided by our annual Run\, Walk\, & Roll. \nPlease call the office at 888-500-9165 if you need help registering or have questions. \n			\n				\n				\n				\n				\n				ABOUT HAIL MARY (PG-13): Science teacher Ryland Grace wakes up on a spaceship with no recollection of who he is or how he got there. As his memory slowly returns\, he soon discovers he must solve the riddle behind a mysterious substance that’s causing the sun to die out. As details of the mission unravel\, he calls on his scientific training and sheer ingenuity — but he may not have to do it alone. \n			\n				\n				\n				\n				\n				\n				\n			\n			\n				\n				\n				\n				\n			\n				\n				\n			\n				\n				\n				\n				\n				\n				\n				\n				\n				\n				\n				\n				\n				\n				\n				\n				\n				\n				Registration Form\n			\n				\n				\n				\n				\n				REGISTRATION IS LIMITED!
URL:https://biaaz.org/event/lets-go-to-the-movies-hail-mary/
LOCATION:Regal Theater in Gilbert\, 1012 S Gilbert Rd\, Gilbert\, AZ\, 85296
CATEGORIES:MOVIE
ATTACH;FMTTYPE=image/jpeg:https://biaaz.org/wp-content/uploads/2026/02/HailMary-FEATURE.jpg
ORGANIZER;CN="Brain Injury Association of Arizona":MAILTO:info@biaaz.org
GEO:33.3286078;-111.7958411
X-APPLE-STRUCTURED-LOCATION;VALUE=URI;X-ADDRESS=Regal Theater in Gilbert 1012 S Gilbert Rd Gilbert AZ 85296;X-APPLE-RADIUS=500;X-TITLE=1012 S Gilbert Rd:geo:-111.7958411,33.3286078
END:VEVENT
END:VCALENDAR